BEGIN:VCALENDAR
VERSION:2.0
PRODID:-//Slow Venice: exploring the extraordinary
CALSCALE:GREGORIAN
METHOD:PUBLISH
X-WR-CALNAME:Slow Venice: exploring the extraordinary
X-ORIGINAL-URL:https://tour.slowvenice.it/en/slow-venice-tours/i-slowvenice-copia-2/
X-WR-CALDESC:I Slow Venice!
BEGIN:VEVENT
DTSTART;TZID=Europe/Helsinki:20190905T150000
DTEND;TZID=Europe/Helsinki:20190905T180000
SUMMARY:I Slow Venice!
DESCRIPTION:<strong>Guaranteed departure</strong>: every Thursday from 18 April to 27 June and from 5 September 2019 to 19 September 2019<strong> € 15</strong>
URL:https://tour.slowvenice.it/en/slow-venice-tours/i-slowvenice-copia-2/
LOCATION:Arsenale ACTV Fermata/Stop, Venezia, VE, Italia
END:VEVENT
END:VCALENDAR
